BEGIN:VCALENDAR
VERSION:2.0
PRODID:-//Clayhidon Parish Council//Meeting Calendar//EN
CALSCALE:GREGORIAN
METHOD:PUBLISH
BEGIN:VEVENT
UID:71608-20251110@clayhidonparish.gov.uk
DTSTAMP:20260422T084323Z
DTSTART;VALUE=DATE:20251110
DTEND;VALUE=DATE:20251111
SUMMARY:Council Meeting &#8211\\; 10 November 2025
DESCRIPTION:Full Council Meeting\nView details: https://clayhidonparish.gov.uk/meetings/council-meeting-17-november-2025/
URL:https://clayhidonparish.gov.uk/meetings/council-meeting-17-november-2025/
END:VEVENT
END:VCALENDAR
