BEGIN:VCALENDAR
VERSION:2.0
PRODID:-//Clayhidon Parish Council//Meeting Calendar//EN
CALSCALE:GREGORIAN
METHOD:PUBLISH
BEGIN:VEVENT
UID:71457-20250310@clayhidonparish.gov.uk
DTSTAMP:20260422T101405Z
DTSTART;VALUE=DATE:20250310
DTEND;VALUE=DATE:20250311
SUMMARY:Council Meeting &#8211\\; 10 March 2025
DESCRIPTION:Full Council Meeting\nView details: https://clayhidonparish.gov.uk/meetings/parish-council-meeting-10-march-2025-2/
URL:https://clayhidonparish.gov.uk/meetings/parish-council-meeting-10-march-2025-2/
END:VEVENT
END:VCALENDAR
